BEGIN:VCALENDAR
VERSION:2.0
PRODID:-//City of Wells - ECPv6.15.17.1//NONSGML v1.0//EN
CALSCALE:GREGORIAN
METHOD:PUBLISH
X-ORIGINAL-URL:https://cityofwellsnv.com
X-WR-CALDESC:Events for City of Wells
REFRESH-INTERVAL;VALUE=DURATION:PT1H
X-Robots-Tag:noindex
X-PUBLISHED-TTL:PT1H
BEGIN:VTIMEZONE
TZID:UTC
BEGIN:STANDARD
TZOFFSETFROM:+0000
TZOFFSETTO:+0000
TZNAME:UTC
DTSTART:20250101T000000
END:STANDARD
END:VTIMEZONE
BEGIN:VEVENT
DTSTART;VALUE=DATE:20260910
DTEND;VALUE=DATE:20260911
DTSTAMP:20260420T095611
CREATED:20260408T161219Z
LAST-MODIFIED:20260408T161219Z
UID:3958-1788998400-1789084799@cityofwellsnv.com
SUMMARY:GC Girls High School Tournament
DESCRIPTION:
URL:https://cityofwellsnv.com/event/gc-girls-high-school-tournament/
LOCATION:Chimney Rock Golf Course\, 408 Ventosa Street\, Wells\, NV\, 89835\, United States
END:VEVENT
BEGIN:VEVENT
DTSTART;VALUE=DATE:20260912
DTEND;VALUE=DATE:20260913
DTSTAMP:20260420T095611
CREATED:20260408T161409Z
LAST-MODIFIED:20260408T161409Z
UID:3960-1789171200-1789257599@cityofwellsnv.com
SUMMARY:GC Greenkeepers Revenge
DESCRIPTION:9am Shotgun
URL:https://cityofwellsnv.com/event/gc-greenkeepers-revenge/
LOCATION:Chimney Rock Golf Course\, 408 Ventosa Street\, Wells\, NV\, 89835\, United States
END:VEVENT
BEGIN:VEVENT
DTSTART;VALUE=DATE:20261031
DTEND;VALUE=DATE:20261101
DTSTAMP:20260420T095611
CREATED:20260408T161825Z
LAST-MODIFIED:20260408T161825Z
UID:3962-1793404800-1793491199@cityofwellsnv.com
SUMMARY:GC Last Day of the Season
DESCRIPTION:
URL:https://cityofwellsnv.com/event/gc-last-day-of-the-season/
LOCATION:Chimney Rock Golf Course\, 408 Ventosa Street\, Wells\, NV\, 89835\, United States
END:VEVENT
END:VCALENDAR