BEGIN:VCALENDAR
VERSION:2.0
PRODID:-//City of Wells - ECPv6.15.20//NONSGML v1.0//EN
CALSCALE:GREGORIAN
METHOD:PUBLISH
X-WR-CALNAME:City of Wells
X-ORIGINAL-URL:https://cityofwellsnv.com
X-WR-CALDESC:Events for City of Wells
REFRESH-INTERVAL;VALUE=DURATION:PT1H
X-Robots-Tag:noindex
X-PUBLISHED-TTL:PT1H
BEGIN:VTIMEZONE
TZID:UTC
BEGIN:STANDARD
TZOFFSETFROM:+0000
TZOFFSETTO:+0000
TZNAME:UTC
DTSTART:20240101T000000
END:STANDARD
END:VTIMEZONE
BEGIN:VEVENT
DTSTART;VALUE=DATE:20260415
DTEND;VALUE=DATE:20260416
DTSTAMP:20260424T083651
CREATED:20260407T184841Z
LAST-MODIFIED:20260408T160356Z
UID:3914-1776211200-1776297599@cityofwellsnv.com
SUMMARY:Opening Day at golf course
DESCRIPTION:
URL:https://cityofwellsnv.com/event/opening-day-at-golf-course/
LOCATION:Chimney Rock Golf Course\, 408 Ventosa Street\, Wells\, NV\, 89835\, United States
END:VEVENT
BEGIN:VEVENT
DTSTART;TZID=UTC:20260324T190000
DTEND;TZID=UTC:20260324T190000
DTSTAMP:20260424T083651
CREATED:20260324T142234Z
LAST-MODIFIED:20260325T144806Z
UID:3880-1774378800-1774378800@cityofwellsnv.com
SUMMARY:City Council Meeting
DESCRIPTION:Meeting starts a 7pm @ City Hall. \nCity Council Agendas & Minutes \n \n 
URL:https://cityofwellsnv.com/event/city-council-meeting/
LOCATION:City Hall\, 525 Sixth Street\, Wells\, NV\, 89835
CATEGORIES:City Events
END:VEVENT
BEGIN:VEVENT
DTSTART;VALUE=DATE:20260302
DTEND;VALUE=DATE:20260313
DTSTAMP:20260424T083651
CREATED:20260305T191617Z
LAST-MODIFIED:20260305T191617Z
UID:3840-1772409600-1773359999@cityofwellsnv.com
SUMMARY:Election Filing
DESCRIPTION:https://www.nvsos.gov/SOSCandidateServices/AnonymousAccess/CF/CandidateFiling.aspx \n 
URL:https://cityofwellsnv.com/event/election-filing/
LOCATION:City Hall\, 525 Sixth Street\, Wells\, NV\, 89835
END:VEVENT
BEGIN:VEVENT
DTSTART;VALUE=DATE:20251209
DTEND;VALUE=DATE:20251213
DTSTAMP:20260424T083651
CREATED:20241205T235842Z
LAST-MODIFIED:20251209T233606Z
UID:3183-1765238400-1765583999@cityofwellsnv.com
SUMMARY:WELLS FAMILY RESOURCE CENTER TREE FESTIVAL
DESCRIPTION:
URL:https://cityofwellsnv.com/event/wells-family-resource-center-tree-festival/
LOCATION:SILVER SAGE SENIOR CENTER\, 765 TOBAR STREET\, WELLS\, NV\, 89835\, United States
CATEGORIES:Community Events
END:VEVENT
BEGIN:VEVENT
DTSTART;TZID=UTC:20251206T180000
DTEND;TZID=UTC:20251206T183000
DTSTAMP:20260424T083651
CREATED:20231018T191123Z
LAST-MODIFIED:20251204T005753Z
UID:2133-1765044000-1765045800@cityofwellsnv.com
SUMMARY:PARADE OF LIGHTS
DESCRIPTION:
URL:https://cityofwellsnv.com/event/parade-of-lights/
LOCATION:Sixth Street\, Sixth Street\, Wells\, NV\, 89835\, United States
END:VEVENT
BEGIN:VEVENT
DTSTART;TZID=UTC:20251031T140000
DTEND;TZID=UTC:20251031T170000
DTSTAMP:20260424T083651
CREATED:20230912T164842Z
LAST-MODIFIED:20251029T141454Z
UID:1838-1761919200-1761930000@cityofwellsnv.com
SUMMARY:Trunk or Treat Street
DESCRIPTION:Trunk or Treat Street is back again this year!
URL:https://cityofwellsnv.com/event/trunk-or-treat-street/
LOCATION:Wells City Park\, Lake Ave\, Wells\, NV\, 89835
END:VEVENT
BEGIN:VEVENT
DTSTART;TZID=UTC:20251030T173000
DTEND;TZID=UTC:20251030T193000
DTSTAMP:20260424T083651
CREATED:20251029T142356Z
LAST-MODIFIED:20251029T142356Z
UID:3609-1761845400-1761852600@cityofwellsnv.com
SUMMARY:HALLOWEEN CARNIVAL
DESCRIPTION:
URL:https://cityofwellsnv.com/event/halloween-carnival-2/
LOCATION:Wells High School\, 1129 Lake Ave\, Wells\, NV\, 89835\, United States
END:VEVENT
BEGIN:VEVENT
DTSTART;VALUE=DATE:20250725
DTEND;VALUE=DATE:20250728
DTSTAMP:20260424T083651
CREATED:20250625T152050Z
LAST-MODIFIED:20250625T152050Z
UID:3468-1753401600-1753660799@cityofwellsnv.com
SUMMARY:WELLS FUN RUN
DESCRIPTION:
URL:https://cityofwellsnv.com/event/wells-fun-run/
LOCATION:Wells City Park\, Lake Ave\, Wells\, NV\, 89835
END:VEVENT
END:VCALENDAR