BEGIN:VCALENDAR
VERSION:2.0
PRODID:-//City of Wells - ECPv6.15.17.1//NONSGML v1.0//EN
CALSCALE:GREGORIAN
METHOD:PUBLISH
X-WR-CALNAME:City of Wells
X-ORIGINAL-URL:https://cityofwellsnv.com
X-WR-CALDESC:Events for City of Wells
REFRESH-INTERVAL;VALUE=DURATION:PT1H
X-Robots-Tag:noindex
X-PUBLISHED-TTL:PT1H
BEGIN:VTIMEZONE
TZID:UTC
BEGIN:STANDARD
TZOFFSETFROM:+0000
TZOFFSETTO:+0000
TZNAME:UTC
DTSTART:20250101T000000
END:STANDARD
END:VTIMEZONE
BEGIN:VEVENT
DTSTART;TZID=UTC:20260421T100000
DTEND;TZID=UTC:20260421T130000
DTSTAMP:20260421T014125
CREATED:20260221T235748Z
LAST-MODIFIED:20260330T193002Z
UID:3249-1776765600-1776776400@cityofwellsnv.com
SUMMARY:CITY OF WELLS DOG CLINIC
DESCRIPTION:2026 Vaccine Clinic Prices
URL:https://cityofwellsnv.com/event/city-of-wells-dog-clinic/
LOCATION:Wells Fire Station\, 516 Seventh Street\, Wells\, NV\, 89835\, United States
CATEGORIES:City Events
END:VEVENT
END:VCALENDAR